BEGIN:VCALENDAR
VERSION:2.0
PRODID:-//YANA - ECPv6.15.20//NONSGML v1.0//EN
CALSCALE:GREGORIAN
METHOD:PUBLISH
X-WR-CALNAME:YANA
X-ORIGINAL-URL:https://yalenonprofitalliance.org
X-WR-CALDESC:Events for YANA
REFRESH-INTERVAL;VALUE=DURATION:PT1H
X-Robots-Tag:noindex
X-PUBLISHED-TTL:PT1H
BEGIN:VTIMEZONE
TZID:America/New_York
BEGIN:DAYLIGHT
TZOFFSETFROM:-0500
TZOFFSETTO:-0400
TZNAME:EDT
DTSTART:20190310T070000
END:DAYLIGHT
BEGIN:STANDARD
TZOFFSETFROM:-0400
TZOFFSETTO:-0500
TZNAME:EST
DTSTART:20191103T060000
END:STANDARD
BEGIN:DAYLIGHT
TZOFFSETFROM:-0500
TZOFFSETTO:-0400
TZNAME:EDT
DTSTART:20200308T070000
END:DAYLIGHT
BEGIN:STANDARD
TZOFFSETFROM:-0400
TZOFFSETTO:-0500
TZNAME:EST
DTSTART:20201101T060000
END:STANDARD
BEGIN:DAYLIGHT
TZOFFSETFROM:-0500
TZOFFSETTO:-0400
TZNAME:EDT
DTSTART:20210314T070000
END:DAYLIGHT
BEGIN:STANDARD
TZOFFSETFROM:-0400
TZOFFSETTO:-0500
TZNAME:EST
DTSTART:20211107T060000
END:STANDARD
END:VTIMEZONE
BEGIN:VEVENT
DTSTART;TZID=America/New_York:20200509T110000
DTEND;TZID=America/New_York:20200509T120000
DTSTAMP:20260423T093114
CREATED:20200508T185621Z
LAST-MODIFIED:20200508T185621Z
UID:10000386-1589022000-1589025600@yalenonprofitalliance.org
SUMMARY:Digital Service in a Virtual Era: Connecting the dots to help your community and save the world without leaving your home
DESCRIPTION:Digital Service in a Virtual Era: Connecting the dots to help your community and save the world without leaving your home\nMay 9\, 2020 | 11:00 AM EDT \nOn a day that thousands of Yalies were scheduled to gather all over the world for the 12th Yale DAY of Service\, the concept of gathering has changed dramatically. However\, the need for community building and local support are in higher demand than ever. Join fellow alumni for a discussion of the ways in which alumni groups can form and maintain relationships with local partners\, and hear from one group that did just that during remarkable circumstances in the COVID 19 crisis. \nYou will hear from speakers Andrew Burgie ’87\, the hazardous materials training coordinator at New York University School of Global Public Health; Liam Elkind ’21\, Co-Founder of Invisible Hands; and Alison Gardy ’88\, Founder of Gardy Communication strategies. This webinar will be moderated by Xiaoyan Huang ’91\, MD\, MHCM\, FACC\, who is a member of the Yale Alumni Board of Governors and is a cardiologist and Medical Director of General Cardiology at Providence Heart Clinic in Portland\, OR. \nREGISTER
URL:https://yalenonprofitalliance.org/event/digital-service/
LOCATION:NY
CATEGORIES:Online
ATTACH;FMTTYPE=:
END:VEVENT
END:VCALENDAR