BEGIN:VCALENDAR
VERSION:2.0
PRODID:-//YANA - ECPv6.15.20//NONSGML v1.0//EN
CALSCALE:GREGORIAN
METHOD:PUBLISH
X-WR-CALNAME:YANA
X-ORIGINAL-URL:https://yalenonprofitalliance.org
X-WR-CALDESC:Events for YANA
REFRESH-INTERVAL;VALUE=DURATION:PT1H
X-Robots-Tag:noindex
X-PUBLISHED-TTL:PT1H
BEGIN:VTIMEZONE
TZID:America/New_York
BEGIN:DAYLIGHT
TZOFFSETFROM:-0500
TZOFFSETTO:-0400
TZNAME:EDT
DTSTART:20190310T070000
END:DAYLIGHT
BEGIN:STANDARD
TZOFFSETFROM:-0400
TZOFFSETTO:-0500
TZNAME:EST
DTSTART:20191103T060000
END:STANDARD
BEGIN:DAYLIGHT
TZOFFSETFROM:-0500
TZOFFSETTO:-0400
TZNAME:EDT
DTSTART:20200308T070000
END:DAYLIGHT
BEGIN:STANDARD
TZOFFSETFROM:-0400
TZOFFSETTO:-0500
TZNAME:EST
DTSTART:20201101T060000
END:STANDARD
BEGIN:DAYLIGHT
TZOFFSETFROM:-0500
TZOFFSETTO:-0400
TZNAME:EDT
DTSTART:20210314T070000
END:DAYLIGHT
BEGIN:STANDARD
TZOFFSETFROM:-0400
TZOFFSETTO:-0500
TZNAME:EST
DTSTART:20211107T060000
END:STANDARD
END:VTIMEZONE
BEGIN:VEVENT
DTSTART;TZID=America/New_York:20200202T100000
DTEND;TZID=America/New_York:20200202T120000
DTSTAMP:20260423T134355
CREATED:20191228T203601Z
LAST-MODIFIED:20191228T203601Z
UID:10000369-1580637600-1580644800@yalenonprofitalliance.org
SUMMARY:YC Connect: Winter Meal Delivery with DOROT
DESCRIPTION:Winter Meal Delivery with DOROT\nFeb. 2\, 2020 | 10:00am – 12:00pm\nEast Side/Central Synagogue – Community House\n123 East 55th Street\, Between Park and Lexington Avenue \nYale Community Connect is working with DOROT to deliver winter meals. We would love to gather as many volunteers for this rewarding opportunity as possible. Please register here by Jan. 16\, and contact us with any questions. \nREGISTER HERE \nMORE INFO
URL:https://yalenonprofitalliance.org/event/meal-delivery-feb20/
LOCATION:NY
CATEGORIES:Chapter,NYC
ATTACH;FMTTYPE=:
END:VEVENT
END:VCALENDAR