BEGIN:VCALENDAR
VERSION:2.0
PRODID:-//YANA - ECPv6.15.20//NONSGML v1.0//EN
CALSCALE:GREGORIAN
METHOD:PUBLISH
X-WR-CALNAME:YANA
X-ORIGINAL-URL:https://yalenonprofitalliance.org
X-WR-CALDESC:Events for YANA
REFRESH-INTERVAL;VALUE=DURATION:PT1H
X-Robots-Tag:noindex
X-PUBLISHED-TTL:PT1H
BEGIN:VTIMEZONE
TZID:America/Los_Angeles
BEGIN:DAYLIGHT
TZOFFSETFROM:-0800
TZOFFSETTO:-0700
TZNAME:PDT
DTSTART:20230312T100000
END:DAYLIGHT
BEGIN:STANDARD
TZOFFSETFROM:-0700
TZOFFSETTO:-0800
TZNAME:PST
DTSTART:20231105T090000
END:STANDARD
BEGIN:DAYLIGHT
TZOFFSETFROM:-0800
TZOFFSETTO:-0700
TZNAME:PDT
DTSTART:20240310T100000
END:DAYLIGHT
BEGIN:STANDARD
TZOFFSETFROM:-0700
TZOFFSETTO:-0800
TZNAME:PST
DTSTART:20241103T090000
END:STANDARD
BEGIN:DAYLIGHT
TZOFFSETFROM:-0800
TZOFFSETTO:-0700
TZNAME:PDT
DTSTART:20250309T100000
END:DAYLIGHT
BEGIN:STANDARD
TZOFFSETFROM:-0700
TZOFFSETTO:-0800
TZNAME:PST
DTSTART:20251102T090000
END:STANDARD
END:VTIMEZONE
BEGIN:VEVENT
DTSTART;TZID=America/Los_Angeles:20240928T160000
DTEND;TZID=America/Los_Angeles:20240928T180000
DTSTAMP:20260419T100516
CREATED:20240914T180106Z
LAST-MODIFIED:20240914T180649Z
UID:10000536-1727539200-1727546400@yalenonprofitalliance.org
SUMMARY:A Conversation with Constitutional Scholar Akhil Reed Amar
DESCRIPTION:The Yale Club of San Francisco and YANA Bay Area are proud to present \nA Conversation with Constitutional Scholar Akhil Reed Amar\nSaturday\, September 28 | 4:00 PM – 6:00 PM PDT\nPulin & Anu Sanghvi’s Home\, Redwood City\, CA\nAll are welcome to attend; ticket purchase required \nJoin the Yale Club of San Francisco and the Yale Alumni Nonprofit Alliance for an intimate evening with Akhil Reed Amar ’80\, LAW ’84\, one of the world’s pre-eminent experts on the U.S. Constitution. Professor Amar teaches constitutional law at both Yale College and Yale Law School\, has been cited in four dozen Supreme Court cases (the most of any non-emeritus scholar)\, and regularly testifies in front of Congress at the invitation of both parties. \nHe writes widely for popular publications including The New York Times\, The Washington Post\, The Wall Street Journal\, Time Magazine\, and The Atlantic\, and his scholarship has been featured on many broadcasts ranging from The Colbert Report to Anderson Cooper 360 to Fareed Zakaria GPS. He hosts a weekly podcast\, America’s Constitution. \nAmar will discuss recent Supreme Court decisions and how the Constitution intersects with the upcoming presidential election\, and will share unique insights from his upcoming book Born Equal: America’s Constitutional Conversation 1840-1920. \nGET TICKETS
URL:https://yalenonprofitalliance.org/event/akhil-reed-amar/
LOCATION:NY
CATEGORIES:Bay Area
ATTACH;FMTTYPE=image/jpeg:https://yalenonprofitalliance.org/wp-content/uploads/2024/09/Akhil-Reed-Amar.jpg
END:VEVENT
END:VCALENDAR