BEGIN:VCALENDAR
VERSION:2.0
PRODID:-//YANA - ECPv6.15.20//NONSGML v1.0//EN
CALSCALE:GREGORIAN
METHOD:PUBLISH
X-WR-CALNAME:YANA
X-ORIGINAL-URL:https://yalenonprofitalliance.org
X-WR-CALDESC:Events for YANA
REFRESH-INTERVAL;VALUE=DURATION:PT1H
X-Robots-Tag:noindex
X-PUBLISHED-TTL:PT1H
BEGIN:VTIMEZONE
TZID:America/New_York
BEGIN:DAYLIGHT
TZOFFSETFROM:-0500
TZOFFSETTO:-0400
TZNAME:EDT
DTSTART:20220313T070000
END:DAYLIGHT
BEGIN:STANDARD
TZOFFSETFROM:-0400
TZOFFSETTO:-0500
TZNAME:EST
DTSTART:20221106T060000
END:STANDARD
BEGIN:DAYLIGHT
TZOFFSETFROM:-0500
TZOFFSETTO:-0400
TZNAME:EDT
DTSTART:20230312T070000
END:DAYLIGHT
BEGIN:STANDARD
TZOFFSETFROM:-0400
TZOFFSETTO:-0500
TZNAME:EST
DTSTART:20231105T060000
END:STANDARD
BEGIN:DAYLIGHT
TZOFFSETFROM:-0500
TZOFFSETTO:-0400
TZNAME:EDT
DTSTART:20240310T070000
END:DAYLIGHT
BEGIN:STANDARD
TZOFFSETFROM:-0400
TZOFFSETTO:-0500
TZNAME:EST
DTSTART:20241103T060000
END:STANDARD
END:VTIMEZONE
BEGIN:VEVENT
DTSTART;TZID=America/New_York:20230531T183000
DTEND;TZID=America/New_York:20230531T200000
DTSTAMP:20260423T184810
CREATED:20230530T150539Z
LAST-MODIFIED:20230530T151055Z
UID:10000497-1685557800-1685563200@yalenonprofitalliance.org
SUMMARY:YANA Monthly Roundtable at the Yale Club ft. Yale Students!
DESCRIPTION:YANA Monthly Roundtable at the Yale Club\nFeaturing Two Yale Change Makers:\nNathaneo Johnson ’26 and Albert Yang ’26 \nUpdate: We will also be joined by Shaezmina Khan ’23 and Karen Li ’23\, co-recipients of the Nakanishi Prize awarded annually to the graduating senior most dedicated to advancing racial and ethnic relations at Yale College. Shaezmina and Karen will reflect on their student experience and share thoughts on the current state of DEI at Yale.   \nPlease join us on Wednesday\, May 31st at 6:30 pm for our monthly YANA roundtable convening students and alums involved in or seeking to become involved in advancing positive social change. \n\n\nWe will spotlight the work of two Yale students\, Albert Yang ’26 and Nathaneo Johnson ’26\, the founders of BullMont Capital\, a venture studio startup that is expanding opportunities for social entrepreneurship across all demographics by democratizing access to capital. Through funding\, mentoring\, legal and marketing support\, and a large VC network\, BullMont provides an effective bridge from ideation to valuation. \nWe anticipate a lively\, interactive roundtable in which everyone will be encouraged to participate! \nHosted by YANA’s Executive Director Rachel Littman ’91 and Board Chair Ken Inadomi ’76. Please RSVP for the roundtable and join us for cocktails in the Main Lounge following the program. \nRSVP HERE
URL:https://yalenonprofitalliance.org/event/yana-monthly-meeting-3/
LOCATION:Yale Club of NYC\, 50 Vanderbilt Ave\, New York\, NY\, United States
CATEGORIES:NYC
END:VEVENT
END:VCALENDAR