BEGIN:VCALENDAR
VERSION:2.0
PRODID:-//YANA - ECPv6.15.20//NONSGML v1.0//EN
CALSCALE:GREGORIAN
METHOD:PUBLISH
X-WR-CALNAME:YANA
X-ORIGINAL-URL:https://yalenonprofitalliance.org
X-WR-CALDESC:Events for YANA
REFRESH-INTERVAL;VALUE=DURATION:PT1H
X-Robots-Tag:noindex
X-PUBLISHED-TTL:PT1H
BEGIN:VTIMEZONE
TZID:America/New_York
BEGIN:DAYLIGHT
TZOFFSETFROM:-0500
TZOFFSETTO:-0400
TZNAME:EDT
DTSTART:20220313T070000
END:DAYLIGHT
BEGIN:STANDARD
TZOFFSETFROM:-0400
TZOFFSETTO:-0500
TZNAME:EST
DTSTART:20221106T060000
END:STANDARD
BEGIN:DAYLIGHT
TZOFFSETFROM:-0500
TZOFFSETTO:-0400
TZNAME:EDT
DTSTART:20230312T070000
END:DAYLIGHT
BEGIN:STANDARD
TZOFFSETFROM:-0400
TZOFFSETTO:-0500
TZNAME:EST
DTSTART:20231105T060000
END:STANDARD
BEGIN:DAYLIGHT
TZOFFSETFROM:-0500
TZOFFSETTO:-0400
TZNAME:EDT
DTSTART:20240310T070000
END:DAYLIGHT
BEGIN:STANDARD
TZOFFSETFROM:-0400
TZOFFSETTO:-0500
TZNAME:EST
DTSTART:20241103T060000
END:STANDARD
END:VTIMEZONE
BEGIN:VEVENT
DTSTART;TZID=America/New_York:20230726T183000
DTEND;TZID=America/New_York:20230726T200000
DTSTAMP:20260423T160638
CREATED:20221220T205825Z
LAST-MODIFIED:20221220T210822Z
UID:10000491-1690396200-1690401600@yalenonprofitalliance.org
SUMMARY:YANA Monthly Meeting
DESCRIPTION:Join us in person at the Yale Club of NYC (50 Vanderbilt Ave) or via Zoom for YANA’s monthly meetings! \nProgram details & registration per event will be updated
URL:https://yalenonprofitalliance.org/event/yana-monthly-meeting/2023-07-26/
LOCATION:Yale Club of NYC\, 50 Vanderbilt Ave\, New York\, NY\, United States
CATEGORIES:NYC,Online
END:VEVENT
END:VCALENDAR