BEGIN:VCALENDAR
VERSION:2.0
PRODID:-//YANA - ECPv6.15.20//NONSGML v1.0//EN
CALSCALE:GREGORIAN
METHOD:PUBLISH
X-WR-CALNAME:YANA
X-ORIGINAL-URL:https://yalenonprofitalliance.org
X-WR-CALDESC:Events for YANA
REFRESH-INTERVAL;VALUE=DURATION:PT1H
X-Robots-Tag:noindex
X-PUBLISHED-TTL:PT1H
BEGIN:VTIMEZONE
TZID:America/New_York
BEGIN:DAYLIGHT
TZOFFSETFROM:-0500
TZOFFSETTO:-0400
TZNAME:EDT
DTSTART:20210314T070000
END:DAYLIGHT
BEGIN:STANDARD
TZOFFSETFROM:-0400
TZOFFSETTO:-0500
TZNAME:EST
DTSTART:20211107T060000
END:STANDARD
BEGIN:DAYLIGHT
TZOFFSETFROM:-0500
TZOFFSETTO:-0400
TZNAME:EDT
DTSTART:20220313T070000
END:DAYLIGHT
BEGIN:STANDARD
TZOFFSETFROM:-0400
TZOFFSETTO:-0500
TZNAME:EST
DTSTART:20221106T060000
END:STANDARD
BEGIN:DAYLIGHT
TZOFFSETFROM:-0500
TZOFFSETTO:-0400
TZNAME:EDT
DTSTART:20230312T070000
END:DAYLIGHT
BEGIN:STANDARD
TZOFFSETFROM:-0400
TZOFFSETTO:-0500
TZNAME:EST
DTSTART:20231105T060000
END:STANDARD
END:VTIMEZONE
BEGIN:VEVENT
DTSTART;TZID=America/New_York:20220512T171500
DTEND;TZID=America/New_York:20220512T193000
DTSTAMP:20260425T235315
CREATED:20220203T010055Z
LAST-MODIFIED:20220511T161702Z
UID:10000466-1652375700-1652383800@yalenonprofitalliance.org
SUMMARY:YANA 2022 Gala: Generation to Generation
DESCRIPTION:Please join us for the 2022 Yale Alumni Nonprofit Alliance Virtual Gala:\n“Generation to Generation” Join former Secretary of State Hillary Clinton and Yale President Peter Salovey in honoring two Yale families and an organization advancing social impact across the generations! \nMarian Wright Edelman ’63 Law\, Founder of the Children’s Defense Fund and Jonah Edelman ’92\, Founder of Stand for Children & Tim McChristian ’77\, Executive Director of the Madison Square Boys & Girls Club and Andrea McChristian ’08\, Law & Policy Director of the New Jersey Institute for Social Justice & Fred Krupp ‘75\, President of the Environmental Defense Fund \nA special welcome from Peter Salovey\, Yale President \nREGISTER! \nAdd to Calendar \n\nGAME CHANGER SPONSORS \n \nPATRON SPONSORS \n \n  \nADVOCATE SPONSORS \n   \nFRIEND SPONSORS
URL:https://yalenonprofitalliance.org/event/2022-gala/
CATEGORIES:Online
ATTACH;FMTTYPE=image/png:https://yalenonprofitalliance.org/wp-content/uploads/2022/05/GalaHonoreePromoHRC.png
END:VEVENT
END:VCALENDAR