BEGIN:VCALENDAR
VERSION:2.0
PRODID:-//YANA - ECPv6.15.20//NONSGML v1.0//EN
CALSCALE:GREGORIAN
METHOD:PUBLISH
X-WR-CALNAME:YANA
X-ORIGINAL-URL:https://yalenonprofitalliance.org
X-WR-CALDESC:Events for YANA
REFRESH-INTERVAL;VALUE=DURATION:PT1H
X-Robots-Tag:noindex
X-PUBLISHED-TTL:PT1H
BEGIN:VTIMEZONE
TZID:America/New_York
BEGIN:DAYLIGHT
TZOFFSETFROM:-0500
TZOFFSETTO:-0400
TZNAME:EDT
DTSTART:20180311T070000
END:DAYLIGHT
BEGIN:STANDARD
TZOFFSETFROM:-0400
TZOFFSETTO:-0500
TZNAME:EST
DTSTART:20181104T060000
END:STANDARD
BEGIN:DAYLIGHT
TZOFFSETFROM:-0500
TZOFFSETTO:-0400
TZNAME:EDT
DTSTART:20190310T070000
END:DAYLIGHT
BEGIN:STANDARD
TZOFFSETFROM:-0400
TZOFFSETTO:-0500
TZNAME:EST
DTSTART:20191103T060000
END:STANDARD
BEGIN:DAYLIGHT
TZOFFSETFROM:-0500
TZOFFSETTO:-0400
TZNAME:EDT
DTSTART:20200308T070000
END:DAYLIGHT
BEGIN:STANDARD
TZOFFSETFROM:-0400
TZOFFSETTO:-0500
TZNAME:EST
DTSTART:20201101T060000
END:STANDARD
END:VTIMEZONE
BEGIN:VEVENT
DTSTART;TZID=America/New_York:20191209T180000
DTEND;TZID=America/New_York:20191209T193000
DTSTAMP:20260420T201844
CREATED:20191126T214835Z
LAST-MODIFIED:20191126T214835Z
UID:10000364-1575914400-1575919800@yalenonprofitalliance.org
SUMMARY:Data for Good
DESCRIPTION:Powered by Eventbrite
URL:https://yalenonprofitalliance.org/event/data-for-good/
CATEGORIES:D.C.,Online
END:VEVENT
BEGIN:VEVENT
DTSTART;TZID=America/New_York:20191204T183000
DTEND;TZID=America/New_York:20191204T200000
DTSTAMP:20260420T201844
CREATED:20191126T221445Z
LAST-MODIFIED:20191126T221445Z
UID:10000365-1575484200-1575489600@yalenonprofitalliance.org
SUMMARY:NYC Chapter December Meeting
DESCRIPTION:Hope to see you there!\nLooking forward to seeing many of you on Wednesday\, December 4th! \n*** \nAGENDA \nDec. 4\, 2019 | 6:30 PM EDT \nConference Dial-In \nCall 605.313.4802 \nCode 965854# \nExecutive Director Update \n\nYANA Social Media Manager position\n\nNew York Events \n\n2018-2019 Webinar Series\, Lou\n\n\n\n\nNov. 6: Performance Measures for Nonprofits Recap\nJan. 8: Blockchain Solutions for Inclusion; Details & Registration to follow\nStay tuned for more 2020 Sessions\n\n\nNov. 12: YANA Panel | Fighting Inequality: The Unique Role of Philanthropic Foundations Recap\nYANA Membership\, Grace\nYale Community Connect\, a series of ongoing programs\, Alison\n\nProgram Updates\nThanksgiving Delivery Project with DOROT Recap\, Sam\n\n\n\n\n\n\n\n\n\n\n\n\n\n\n\n\n\nYANA – You Are Not Alone: \n\nWhat’s your top social impact aspiration for 2020?\nHow can YANA help you achieve it?\n\n\n\n\n\n\n\n\n\n\n\n\n\n\n\n\n\n\n\n\n\n\n\n\n\n\n\n\n\n\n\n\n\n\n\n\n\n\n\nSpotlight: Victor Hunt ’18\, a native of Queens whose family experienced hardship and homelessness. With exceptional vision and grit\, Victor launched a mission-driven online business\, Astorian\, from his dorm room at Yale that matches property managers with vetted contractors — including hundreds of affordable buildings — helping to reduce costs and stabilize rent increases in New York City. \n\n\n\n\n\n\n\n\n\n\n\n\n\n\n\n\n\n\n\n\n\n\n\n\n\n\nNext Meeting: Wednesday\, January 29th. Spotlight will feature Kate Reuther ’96\, Executive Director of Uptown Stories\, a Manhattan-based organization that inspires kids to discover and develop their inner voices by offering small-group writing workshops for children ages eight to fifteen\, led by master teachers and professional authors.
URL:https://yalenonprofitalliance.org/event/nyc-chapter-december-meeting/
CATEGORIES:Chapter,NYC
ATTACH;FMTTYPE=:
END:VEVENT
BEGIN:VEVENT
DTSTART;TZID=America/New_York:20190925T180000
DTEND;TZID=America/New_York:20190925T193000
DTSTAMP:20260420T201844
CREATED:20190923T185839Z
LAST-MODIFIED:20190923T185839Z
UID:10000363-1569434400-1569439800@yalenonprofitalliance.org
SUMMARY:NYC Monthly Chapter
DESCRIPTION:Text and Agenda
URL:https://yalenonprofitalliance.org/event/nyc-monthly-chapter/
END:VEVENT
END:VCALENDAR