BEGIN:VCALENDAR
VERSION:2.0
PRODID:-//YANA - ECPv6.15.20//NONSGML v1.0//EN
CALSCALE:GREGORIAN
METHOD:PUBLISH
X-WR-CALNAME:YANA
X-ORIGINAL-URL:https://yalenonprofitalliance.org
X-WR-CALDESC:Events for YANA
REFRESH-INTERVAL;VALUE=DURATION:PT1H
X-Robots-Tag:noindex
X-PUBLISHED-TTL:PT1H
BEGIN:VTIMEZONE
TZID:America/New_York
BEGIN:DAYLIGHT
TZOFFSETFROM:-0500
TZOFFSETTO:-0400
TZNAME:EDT
DTSTART:20220313T070000
END:DAYLIGHT
BEGIN:STANDARD
TZOFFSETFROM:-0400
TZOFFSETTO:-0500
TZNAME:EST
DTSTART:20221106T060000
END:STANDARD
BEGIN:DAYLIGHT
TZOFFSETFROM:-0500
TZOFFSETTO:-0400
TZNAME:EDT
DTSTART:20230312T070000
END:DAYLIGHT
BEGIN:STANDARD
TZOFFSETFROM:-0400
TZOFFSETTO:-0500
TZNAME:EST
DTSTART:20231105T060000
END:STANDARD
BEGIN:DAYLIGHT
TZOFFSETFROM:-0500
TZOFFSETTO:-0400
TZNAME:EDT
DTSTART:20240310T070000
END:DAYLIGHT
BEGIN:STANDARD
TZOFFSETFROM:-0400
TZOFFSETTO:-0500
TZNAME:EST
DTSTART:20241103T060000
END:STANDARD
END:VTIMEZONE
BEGIN:VEVENT
DTSTART;TZID=America/New_York:20231213T183000
DTEND;TZID=America/New_York:20231213T200000
DTSTAMP:20260424T052752
CREATED:20231207T164750Z
LAST-MODIFIED:20231207T164750Z
UID:10000521-1702492200-1702497600@yalenonprofitalliance.org
SUMMARY:YANA Virtual Open House
DESCRIPTION:Help celebrate another high-impact year for YANA by joining our year-end Virtual Open House! \nWhether you’re new to YANA or a seasoned change maker\, this is your chance to connect with many of the great people across the YANA landscape before the end of the year. \nYou’ll have an opportunity to describe your nonprofit aspirations\, where you or your organization may need help\, and how you’d like to give back. Our format will include both a broad plenary session and smaller Zoom groups broken out by area of impact\, which you’ll have a chance to indicate when registering. \nThe session will be moderated by YANA’s former ED Rachel Littman ’91 and Board Chair Ken Inadomi ’76. We anticipate a lively\, productive brainstorming session in which everyone will be encouraged to participate – we hope to see you! \nRSVP \n 
URL:https://yalenonprofitalliance.org/event/yana-virtual-open-house/
LOCATION:NY
CATEGORIES:Online
END:VEVENT
END:VCALENDAR