BEGIN:VCALENDAR
VERSION:2.0
PRODID:-//YANA - ECPv6.15.20//NONSGML v1.0//EN
CALSCALE:GREGORIAN
METHOD:PUBLISH
X-WR-CALNAME:YANA
X-ORIGINAL-URL:https://yalenonprofitalliance.org
X-WR-CALDESC:Events for YANA
REFRESH-INTERVAL;VALUE=DURATION:PT1H
X-Robots-Tag:noindex
X-PUBLISHED-TTL:PT1H
BEGIN:VTIMEZONE
TZID:America/New_York
BEGIN:DAYLIGHT
TZOFFSETFROM:-0500
TZOFFSETTO:-0400
TZNAME:EDT
DTSTART:20230312T070000
END:DAYLIGHT
BEGIN:STANDARD
TZOFFSETFROM:-0400
TZOFFSETTO:-0500
TZNAME:EST
DTSTART:20231105T060000
END:STANDARD
BEGIN:DAYLIGHT
TZOFFSETFROM:-0500
TZOFFSETTO:-0400
TZNAME:EDT
DTSTART:20240310T070000
END:DAYLIGHT
BEGIN:STANDARD
TZOFFSETFROM:-0400
TZOFFSETTO:-0500
TZNAME:EST
DTSTART:20241103T060000
END:STANDARD
BEGIN:DAYLIGHT
TZOFFSETFROM:-0500
TZOFFSETTO:-0400
TZNAME:EDT
DTSTART:20250309T070000
END:DAYLIGHT
BEGIN:STANDARD
TZOFFSETFROM:-0400
TZOFFSETTO:-0500
TZNAME:EST
DTSTART:20251102T060000
END:STANDARD
END:VTIMEZONE
BEGIN:VEVENT
DTSTART;TZID=America/New_York:20240607T180000
DTEND;TZID=America/New_York:20240607T193000
DTSTAMP:20260423T202220
CREATED:20240527T221807Z
LAST-MODIFIED:20240529T021503Z
UID:10000530-1717783200-1717788600@yalenonprofitalliance.org
SUMMARY:Climate Change: Hope & Action
DESCRIPTION:YANA Bay Area & the Yale Club of San Francisco present \nClimate Change: Hope & Action\nFriday\, June 7\, 2024 | 6:00 PM-7:30 PM ET // 3:00 PM – 4:30 PM PT\nVirtual Event via Zoom | REGISTER HERE \nJoin us to explore the Yale Center on Climate Change and Health’s initiatives to safeguard human health\, the California Department of Justice’s bold actions to hold corporations accountable for deceiving the public about the climate and environmental harms of their products\, and the Skyline Foundation’s collaborative philanthropic efforts to advance climate crisis solutions. It supports equitable policy change\, climate tech\, and human health – such as the right to a healthy environment. \nLEARN MORE & REGISTER
URL:https://yalenonprofitalliance.org/event/climate-change-hope-action/
LOCATION:NY
CATEGORIES:Bay Area,Online
ATTACH;FMTTYPE=image/jpeg:https://yalenonprofitalliance.org/wp-content/uploads/2024/05/YaleClubSF-YANABayArea.jpg
END:VEVENT
BEGIN:VEVENT
DTSTART;TZID=America/New_York:20240626T183000
DTEND;TZID=America/New_York:20240626T200000
DTSTAMP:20260423T202220
CREATED:20240506T195234Z
LAST-MODIFIED:20240506T195306Z
UID:10000529-1719426600-1719432000@yalenonprofitalliance.org
SUMMARY:Live from NYC! David McCullough III ’17\, Co-Founder & CEO of the American Exchange Project
DESCRIPTION:David McCullough III ’17\, Co-Founder & CEO of the American Exchange Project\nJune 26 | 6:30pm ET – In-Person (Yale Club of NYC) & via Zoom \nTo connect our divided country\, The American Exchange Project sends high school seniors on a free\, week-long trip to a hometown very different from their own. In 2019\, David McCullough co-founded AEP as a first-of-its-kind\, cross-cultural exchange program for graduated high school seniors. AEP has been hailed as a domestic Peace Corps that is effectively bridging the gap and building greater understanding and empathy across class\, cultural\, racial\, and geographical divides throughout our nation. In 2023\, AEP partnered with 53 high schools in 31 states. American Exchange Project has raised more than $5 million and partnered with Harvard psychology researchers to study the program’s long-term impact. To learn more view the profile on AEP broadcast on ABC’s Good Morning America. \nREGISTER NOW
URL:https://yalenonprofitalliance.org/event/june-26-american-exchange-project/
LOCATION:NY
CATEGORIES:NYC,Online
ATTACH;FMTTYPE=image/png:https://yalenonprofitalliance.org/wp-content/uploads/2024/05/David-McCullough-III.png
END:VEVENT
END:VCALENDAR