BEGIN:VCALENDAR
VERSION:2.0
PRODID:-//YANA - ECPv6.15.20//NONSGML v1.0//EN
CALSCALE:GREGORIAN
METHOD:PUBLISH
X-WR-CALNAME:YANA
X-ORIGINAL-URL:https://yalenonprofitalliance.org
X-WR-CALDESC:Events for YANA
REFRESH-INTERVAL;VALUE=DURATION:PT1H
X-Robots-Tag:noindex
X-PUBLISHED-TTL:PT1H
BEGIN:VTIMEZONE
TZID:America/New_York
BEGIN:DAYLIGHT
TZOFFSETFROM:-0500
TZOFFSETTO:-0400
TZNAME:EDT
DTSTART:20220313T070000
END:DAYLIGHT
BEGIN:STANDARD
TZOFFSETFROM:-0400
TZOFFSETTO:-0500
TZNAME:EST
DTSTART:20221106T060000
END:STANDARD
BEGIN:DAYLIGHT
TZOFFSETFROM:-0500
TZOFFSETTO:-0400
TZNAME:EDT
DTSTART:20230312T070000
END:DAYLIGHT
BEGIN:STANDARD
TZOFFSETFROM:-0400
TZOFFSETTO:-0500
TZNAME:EST
DTSTART:20231105T060000
END:STANDARD
BEGIN:DAYLIGHT
TZOFFSETFROM:-0500
TZOFFSETTO:-0400
TZNAME:EDT
DTSTART:20240310T070000
END:DAYLIGHT
BEGIN:STANDARD
TZOFFSETFROM:-0400
TZOFFSETTO:-0500
TZNAME:EST
DTSTART:20241103T060000
END:STANDARD
END:VTIMEZONE
BEGIN:VEVENT
DTSTART;TZID=America/New_York:20230525T163000
DTEND;TZID=America/New_York:20230525T180000
DTSTAMP:20260424T183652
CREATED:20230406T175149Z
LAST-MODIFIED:20230427T021255Z
UID:10000512-1685032200-1685037600@yalenonprofitalliance.org
SUMMARY:Food Insecurity: Regional\, National\, and International Responses
DESCRIPTION:Food Insecurity: Regional\, National\, and International Responses\nThursday\, May 25\, 2023 | 1:30-3:00 PM PT (4:30-6:00 PM ET) \nThe program will examine food insecurity from the lens of two major SF Bay Area community food banks\, international warehousing and supply chain solutions\, and a nonprofit that aids organizations to provide meals in San Francisco. Please join us for a conversation with panelists Lenore Estrada ’05 (Co-Founder\, SF New Deal & Three Babes Bakeshop)\, Gabrielle Tiven ‘04 (Senior Partner\, LIDD)\, Regi Young (Executive Director\, Alameda County Community Food Bank)\, Tanis Crosby (Executive Director\, San Francisco-Marin Food Bank)\, and Nafisa Kabir ’25. \nPanel will be moderated by Eleanor Evans Pepples ‘86\, YANA Bay Area Chapter Chair and Yale Club of San Francisco Board Director. \nREGISTER
URL:https://yalenonprofitalliance.org/event/bayarea-food-insecurity/
LOCATION:NY
CATEGORIES:Bay Area,Online
END:VEVENT
END:VCALENDAR