BEGIN:VCALENDAR
VERSION:2.0
PRODID:-//YANA - ECPv6.15.20//NONSGML v1.0//EN
CALSCALE:GREGORIAN
METHOD:PUBLISH
X-WR-CALNAME:YANA
X-ORIGINAL-URL:https://yalenonprofitalliance.org
X-WR-CALDESC:Events for YANA
REFRESH-INTERVAL;VALUE=DURATION:PT1H
X-Robots-Tag:noindex
X-PUBLISHED-TTL:PT1H
BEGIN:VTIMEZONE
TZID:America/New_York
BEGIN:DAYLIGHT
TZOFFSETFROM:-0500
TZOFFSETTO:-0400
TZNAME:EDT
DTSTART:20230312T070000
END:DAYLIGHT
BEGIN:STANDARD
TZOFFSETFROM:-0400
TZOFFSETTO:-0500
TZNAME:EST
DTSTART:20231105T060000
END:STANDARD
BEGIN:DAYLIGHT
TZOFFSETFROM:-0500
TZOFFSETTO:-0400
TZNAME:EDT
DTSTART:20240310T070000
END:DAYLIGHT
BEGIN:STANDARD
TZOFFSETFROM:-0400
TZOFFSETTO:-0500
TZNAME:EST
DTSTART:20241103T060000
END:STANDARD
BEGIN:DAYLIGHT
TZOFFSETFROM:-0500
TZOFFSETTO:-0400
TZNAME:EDT
DTSTART:20250309T070000
END:DAYLIGHT
BEGIN:STANDARD
TZOFFSETFROM:-0400
TZOFFSETTO:-0500
TZNAME:EST
DTSTART:20251102T060000
END:STANDARD
BEGIN:DAYLIGHT
TZOFFSETFROM:-0500
TZOFFSETTO:-0400
TZNAME:EDT
DTSTART:20260308T070000
END:DAYLIGHT
BEGIN:STANDARD
TZOFFSETFROM:-0400
TZOFFSETTO:-0500
TZNAME:EST
DTSTART:20261101T060000
END:STANDARD
BEGIN:DAYLIGHT
TZOFFSETFROM:-0500
TZOFFSETTO:-0400
TZNAME:EDT
DTSTART:20270314T070000
END:DAYLIGHT
BEGIN:STANDARD
TZOFFSETFROM:-0400
TZOFFSETTO:-0500
TZNAME:EST
DTSTART:20271107T060000
END:STANDARD
END:VTIMEZONE
BEGIN:VEVENT
DTSTART;TZID=America/New_York:20241030T183000
DTEND;TZID=America/New_York:20241030T200000
DTSTAMP:20260424T085334
CREATED:20241029T160100Z
LAST-MODIFIED:20241029T163223Z
UID:10000537-1730313000-1730318400@yalenonprofitalliance.org
SUMMARY:Town Hall: Meet YANA’s new Executive Director
DESCRIPTION:Live from NY and September Town Hall\nJoin YANA Executive Director for an open house! It will be a great opportunity to connect and for Kristin to learn more about your hopes and dreams for YANA and for Kristin to share with you where we are headed in the coming weeks and months.  \nYANA Town Halls provide an opportunity for mission-driven alums to exchange ideas and information to help achieve social impact. These events occur live at the Yale Club of NYC and via Zoom. \nIf you’re attending in person\, join us afterwards for cocktails in the Main Lounge. You don’t need to be a member of the Yale Club to join us! \nRegister now for our October event: \nYANA Open House: Meet YANA’s New Executive Director Kristin Urquiza\nOct. 30 | 6:30 PM ET – In-Person (Yale Club of NYC) & via Zoom \nREGISTER HERE
URL:https://yalenonprofitalliance.org/event/oct30townhall-meet-ed/
CATEGORIES:NYC,Online
LOCATION:
END:VEVENT
BEGIN:VEVENT
DTSTART;TZID=America/New_York:20250129T183000
DTEND;TZID=America/New_York:20250129T200000
DTSTAMP:20260424T085334
CREATED:20250120T202918Z
LAST-MODIFIED:20250120T202941Z
UID:10000539-1738175400-1738180800@yalenonprofitalliance.org
SUMMARY:Live from New York Town Hall with Yale Divinity School Dean Greg Sterling
DESCRIPTION:Jan. 29 | In-Person (Yale Club of NYC) & via Zoom \nJoin Reverend Gregory E. Sterling\, The Henry L. Slack Dean of Yale Divinity School\, as he explores the science\, design\, and ethics behind the Living Village at Yale Divinity School. As part of Yale’s sustainability and Planetary Solutions initiative\, this transformative net-positive-energy project will set new standards in sustainable architecture and community living. \nThis is a unique opportunity to learn how the Living Village exemplifies Yale’s commitment to inclusivity\, sustainability\, and regenerative design.\nRegistration required and open to Alumni\, Students\, and Friends of Yale. \n+++ \n\n\nYANA Town Halls are Live from New York!\n\n\n\n\nYANA Town Halls provide an ideal opportunity for mission-driven alums to meet each other and exchange ideas and information to help achieve social impact. These events occur live at the Yale Club in New York City AND are accessible via Zoom. Join us from anywhere! \nIf attending in person\, join us after the program in the Main Lounge to convene and connect over cocktails. You don’t need to be a member of the Yale Club to join us!
URL:https://yalenonprofitalliance.org/event/2025-jan29-sterling/
LOCATION:Yale Club of NYC\, 50 Vanderbilt Ave\, New York\, NY\, United States
CATEGORIES:NYC,Online
ATTACH;FMTTYPE=image/png:https://yalenonprofitalliance.org/wp-content/uploads/2025/01/Greg-Sterling.png
END:VEVENT
BEGIN:VEVENT
DTSTART;TZID=America/New_York:20250430T183000
DTEND;TZID=America/New_York:20250430T200000
DTSTAMP:20260424T085334
CREATED:20250417T000949Z
LAST-MODIFIED:20250417T001019Z
UID:10000545-1746037800-1746043200@yalenonprofitalliance.org
SUMMARY:Live from New York: YANA Board Match Program
DESCRIPTION:Live from New York: YANA Board Match Program\n\n\n\n\nApril 30\, 6:30pm ET | In-Person (Yale Club of NYC) & via Zoom \nAre you ready to share your professional expertise with nonprofits that truly need your help? Join us for our monthly Town Hall on April 30 (online and in-person at the Yale Club) for a Board Match featuring organizations at a critical inflection point in their development. At this Board Match we will showcase smaller\, newer organizations from our Mentoring Program. These nonprofits are either forming their very first boards or transitioning from founder-led “friends and family” boards to more professional governance structures. \nThis is a unique opportunity to get in on the ground floor with emerging nonprofits and help shape their future. Your involvement now can have an outsized impact on their development and the communities they serve. Join us to learn more about these promising organizations and discover how your skills could be the missing piece they need to thrive and grow. \n\n\nREGISTER NOW\n\n\n\n\n\nYANA Board Match April 2025:\nFeaturing Nonprofit Mentees from the YANA Nonprofit Mentoring Program \n  \n\n\n\nKinyeti Academy (South Sudan) \nLorem Aminathia ‘15\, Founder and CEO \nJeff Brenzel ‘75\, Advisory Board \nKinyeti Academy provides a World-class education for a new generation of South Sudanese leaders\, entrepreneurs\, and social builders.\n\n\n\nCongenital Hyperinsulism International (NJ) \nJulie Raskin\, Executive Director \nPamela Weber-Leaf ‘89\, Director of Development \nPatrick Rohrkaste\, Board President \nCHI is a US-based rare disease research\, support\, and advocacy organization.\n\n\n\nCircle Match (NJ) \nMichael Sanchez ‘23\, Executive Director \nJosh Bruner DIV ‘16\, Board Chair \nCircle Match connects driven students from low-income communities to the college-going process by providing near-peer college advising.\n\n\n\nHope Creates (MO) \nKathie Thomas\, Executive Director \nJennifer Lunceford ‘15\, Program Director \nHope Creates empowers youth and adults in recovery from\, or at risk of\, Substance Use Disorder to stay sober by engaging in the expressive arts and a vibrant and creative sober community.\n\n\n\nUnite for Health (Cameroon) \nElvis N. Ndansi\, RN\, BSN\, MSN\, MPH\, Founder & President \nFlorence Buchanan\, Board Chair \nGeorge Guernsey ‘70\, Advisory Board \nUnite for Health combats maternal and child mortality by inventively providing access to affordable healthcare in underserved communities in rural Africa.
URL:https://yalenonprofitalliance.org/event/april-board-match-2025/
CATEGORIES:NYC,Online
ATTACH;FMTTYPE=image/png:https://yalenonprofitalliance.org/wp-content/uploads/2024/07/YANA-Nonprofit-Mentoring-Program-Logo-ALLCAPS.png
END:VEVENT
BEGIN:VEVENT
DTSTART;TZID=America/New_York:20250730T183000
DTEND;TZID=America/New_York:20250730T193000
DTSTAMP:20260424T085334
CREATED:20250717T183001Z
LAST-MODIFIED:20250717T183056Z
UID:10000550-1753900200-1753903800@yalenonprofitalliance.org
SUMMARY:YANA Town Hall Feature: Educational Equity Under Attack
DESCRIPTION:YANA Town Halls are Live from New York!\nYANA Town Halls provide an opportunity for mission-driven alums to exchange ideas and information to help achieve social impact. These events occur live at the Yale Club of NYC and via Zoom. You don’t need to be a member of the Yale Club to join us! \nREGISTER\nMeet Kimberly Jones ‘00\, President\nCouncil for Opportunity in Education\n\n\n\n\nJuly 30 | 6:30 PM ET – In-Person (Yale Club of NYC) & via Zoom \nYANA Town Hall Feature: Educational Equity Under Attack \nThe letter arrived on May 2\, 2025\, threatening to eliminate programs that have transformed millions of low-income\, first-generation students into college graduates over 60 years. When the Trump Administration’s budget proposal called for completely cutting Federal TRIO Programs\, Kimberly Jones ’00 knew she had just months to mount a defense. \nAs President of the Council for Opportunity in Education (COE)\, Jones mobilized an unprecedented response across all 50 states. Within weeks\, thousands of emails flooded Congressional offices\, over 10\,000 TRIO alumni signed petitions\, and local news stories highlighted how these programs change lives. The grassroots campaign reached every corner of America\, from rural communities to urban centers. \nBut the fight intensified when the Department of Education began issuing grant cancellation notices to programs just days before their funding expired. “These unwarranted cancellations serve as a troubling warning\,” Jones wrote to supporters\, launching COE’s $500\,000 Educational Opportunity Campaign to sustain the defense. \nJones brings unique credibility to this battle. A New Haven native and 1999 Harry S. Truman Scholar\, she’s built one of higher education’s most effective advocacy operations since joining COE in 2007. Under her leadership\, the organization has secured over a billion dollars in federal funding for underserved students. \nHer approach combines Washington insider knowledge with grassroots organizing power. When programs serving 870\,000 students annually face elimination\, Jones doesn’t just lobby—she mobilizes entire communities to tell their stories. \nJoin YANA’s Town Hall on July 30 to hear directly from Jones about defending educational equity in an era of unprecedented attacks on opportunity programs.
URL:https://yalenonprofitalliance.org/event/july25-townhall/
CATEGORIES:NYC,Online
ATTACH;FMTTYPE=image/jpeg:https://yalenonprofitalliance.org/wp-content/uploads/2025/06/Kimberly-Jones-Headshot-1024x683-1.jpg
END:VEVENT
BEGIN:VEVENT
DTSTART;TZID=America/New_York:20260128T183000
DTEND;TZID=America/New_York:20260128T200000
DTSTAMP:20260424T085334
CREATED:20260119T030040Z
LAST-MODIFIED:20260119T030040Z
UID:10000552-1769625000-1769630400@yalenonprofitalliance.org
SUMMARY:Live from NY Town Hall: Inside Nonprofit Executive Search - Hiring Leaders\, Advancing Careers
DESCRIPTION:YANA Town Halls are Live from New York!\nYANA Town Halls provide an opportunity for mission-driven alums to exchange ideas and information to help achieve social impact. These events occur live at the Yale Club of NYC and via Zoom. You don’t need to be a member of the Yale Club to join us! \nREGISTER\nInside Nonprofit Executive Search – Hiring Leaders\, Advancing Careers\n\n\n\n\n\n\nJan. 28 | 6:30 PM ET – In-Person (Yale Club of NYC) & via Zoom \nThemes to be covered:  \n\nThe role of executive search in building successful nonprofits.\nHow nonprofit boards can work effectively with search firms\nTrends shaping nonprofit leadership succession\nHow DEI is reshaping nonprofit leadership searches\nPractical guidance for advancing your career in the nonprofit sector\n\nSpeakers: \n\nJack Lusk\nMarilyn Machlowitz\nMelissa Madzel
URL:https://yalenonprofitalliance.org/event/town-hall-jan-26/
LOCATION:Yale Club of NYC\, 50 Vanderbilt Ave\, New York\, NY\, United States
CATEGORIES:NYC,Online
END:VEVENT
BEGIN:VEVENT
DTSTART;TZID=America/New_York:20260225T183000
DTEND;TZID=America/New_York:20260225T193000
DTSTAMP:20260424T085334
CREATED:20260119T030523Z
LAST-MODIFIED:20260119T031114Z
UID:10000553-1772044200-1772047800@yalenonprofitalliance.org
SUMMARY:Live from NY Town Hall - February
DESCRIPTION:YANA Town Halls are Live from New York!\nYANA Town Halls provide an opportunity for mission-driven alums to exchange ideas and information to help achieve social impact. These events occur live at the Yale Club of NYC and via Zoom. You don’t need to be a member of the Yale Club to join us! \nREGISTER\nTopic to follow\n\n\n\n\n\n\nFeb. 25 | 6:30 PM ET – In-Person (Yale Club of NYC) & via Zoom
URL:https://yalenonprofitalliance.org/event/town-hall-feb-26/
CATEGORIES:NYC,Online
END:VEVENT
BEGIN:VEVENT
DTSTART;TZID=America/New_York:20260325T183000
DTEND;TZID=America/New_York:20260325T193000
DTSTAMP:20260424T085334
CREATED:20260301T223110Z
LAST-MODIFIED:20260301T223609Z
UID:10000554-1774463400-1774467000@yalenonprofitalliance.org
SUMMARY:Live from NY Town Hall: March
DESCRIPTION:REGISTER NOW
URL:https://yalenonprofitalliance.org/event/live-from-ny-town-hall-march/
LOCATION:Yale Club of NYC\, 50 Vanderbilt Ave\, New York\, NY\, United States
CATEGORIES:NYC,Online
ATTACH;FMTTYPE=image/png:https://yalenonprofitalliance.org/wp-content/uploads/2024/05/Live-from-NY.png
END:VEVENT
BEGIN:VEVENT
DTSTART;TZID=America/New_York:20260527T183000
DTEND;TZID=America/New_York:20260527T193000
DTSTAMP:20260424T085334
CREATED:20260301T223412Z
LAST-MODIFIED:20260301T223412Z
UID:10000556-1779906600-1779910200@yalenonprofitalliance.org
SUMMARY:Live from NYC Town Hall: May 2026
DESCRIPTION:REGISTER NOW
URL:https://yalenonprofitalliance.org/event/live-from-nyc-town-hall-may-2026/
LOCATION:Yale Club of NYC\, 50 Vanderbilt Ave\, New York\, NY\, United States
CATEGORIES:NYC,Online
ATTACH;FMTTYPE=image/png:https://yalenonprofitalliance.org/wp-content/uploads/2024/05/Live-from-NY.png
END:VEVENT
BEGIN:VEVENT
DTSTART;TZID=America/New_York:20260624T183000
DTEND;TZID=America/New_York:20260624T193000
DTSTAMP:20260424T085334
CREATED:20260301T223744Z
LAST-MODIFIED:20260301T223744Z
UID:10000557-1782325800-1782329400@yalenonprofitalliance.org
SUMMARY:Live from NYC Town Hall: June 2026
DESCRIPTION:REGISTER NOW
URL:https://yalenonprofitalliance.org/event/live-from-nyc-town-hall-june-2026/
LOCATION:Yale Club of NYC\, 50 Vanderbilt Ave\, New York\, NY\, United States
CATEGORIES:NYC,Online
ATTACH;FMTTYPE=image/png:https://yalenonprofitalliance.org/wp-content/uploads/2024/05/Live-from-NY.png
END:VEVENT
END:VCALENDAR