BEGIN:VCALENDAR
VERSION:2.0
PRODID:-//YANA - ECPv6.15.20//NONSGML v1.0//EN
CALSCALE:GREGORIAN
METHOD:PUBLISH
X-WR-CALNAME:YANA
X-ORIGINAL-URL:https://yalenonprofitalliance.org
X-WR-CALDESC:Events for YANA
REFRESH-INTERVAL;VALUE=DURATION:PT1H
X-Robots-Tag:noindex
X-PUBLISHED-TTL:PT1H
BEGIN:VTIMEZONE
TZID:America/New_York
BEGIN:DAYLIGHT
TZOFFSETFROM:-0500
TZOFFSETTO:-0400
TZNAME:EDT
DTSTART:20220313T070000
END:DAYLIGHT
BEGIN:STANDARD
TZOFFSETFROM:-0400
TZOFFSETTO:-0500
TZNAME:EST
DTSTART:20221106T060000
END:STANDARD
BEGIN:DAYLIGHT
TZOFFSETFROM:-0500
TZOFFSETTO:-0400
TZNAME:EDT
DTSTART:20230312T070000
END:DAYLIGHT
BEGIN:STANDARD
TZOFFSETFROM:-0400
TZOFFSETTO:-0500
TZNAME:EST
DTSTART:20231105T060000
END:STANDARD
BEGIN:DAYLIGHT
TZOFFSETFROM:-0500
TZOFFSETTO:-0400
TZNAME:EDT
DTSTART:20240310T070000
END:DAYLIGHT
BEGIN:STANDARD
TZOFFSETFROM:-0400
TZOFFSETTO:-0500
TZNAME:EST
DTSTART:20241103T060000
END:STANDARD
END:VTIMEZONE
BEGIN:VEVENT
DTSTART;TZID=America/New_York:20231026T180000
DTEND;TZID=America/New_York:20231026T210000
DTSTAMP:20260424T003222
CREATED:20221229T180533Z
LAST-MODIFIED:20230921T154538Z
UID:10000501-1698343200-1698354000@yalenonprofitalliance.org
SUMMARY:YANA Annual Gala
DESCRIPTION:Generation to Generation Gala\n6:00 PM ET\nThe Yale Club of New York City\n50 Vanderbilt Avenue New York\, New York 10017 \nMORE INFO & REGISTER
URL:https://yalenonprofitalliance.org/event/yana-annual-gala/
LOCATION:Yale Club of NYC\, 50 Vanderbilt Ave\, New York\, NY\, United States
CATEGORIES:NYC
ATTACH;FMTTYPE=image/png:https://yalenonprofitalliance.org/wp-content/uploads/2022/12/2023-Gala-Qgiv.png
END:VEVENT
BEGIN:VEVENT
DTSTART;TZID=America/New_York:20231027T083000
DTEND;TZID=America/New_York:20231027T173000
DTSTAMP:20260424T003222
CREATED:20221229T180610Z
LAST-MODIFIED:20231004T152941Z
UID:10000502-1698395400-1698427800@yalenonprofitalliance.org
SUMMARY:YANA Social Impact Conference
DESCRIPTION:Magnifying Your Mission: Building Momentum and Boosting Social Impact\nSocial Impact Conference\nOctober 27 | 8:30 AM – 5:30 PM ET\nThe Yale Club of New York City\n50 Vanderbilt Avenue New York\, New York 10017 \nMORE INFO & REGISTER \nMORE INFO & REGISTER
URL:https://yalenonprofitalliance.org/event/yana-social-impact-conference/
LOCATION:Yale Club of NYC\, 50 Vanderbilt Ave\, New York\, NY\, United States
CATEGORIES:NYC
ATTACH;FMTTYPE=image/png:https://yalenonprofitalliance.org/wp-content/uploads/2023/09/0923_GalaConfSTD.png
END:VEVENT
END:VCALENDAR