BEGIN:VCALENDAR
VERSION:2.0
PRODID:-//YANA - ECPv6.15.20//NONSGML v1.0//EN
CALSCALE:GREGORIAN
METHOD:PUBLISH
X-WR-CALNAME:YANA
X-ORIGINAL-URL:https://yalenonprofitalliance.org
X-WR-CALDESC:Events for YANA
REFRESH-INTERVAL;VALUE=DURATION:PT1H
X-Robots-Tag:noindex
X-PUBLISHED-TTL:PT1H
BEGIN:VTIMEZONE
TZID:America/Los_Angeles
BEGIN:DAYLIGHT
TZOFFSETFROM:-0800
TZOFFSETTO:-0700
TZNAME:PDT
DTSTART:20230312T100000
END:DAYLIGHT
BEGIN:STANDARD
TZOFFSETFROM:-0700
TZOFFSETTO:-0800
TZNAME:PST
DTSTART:20231105T090000
END:STANDARD
BEGIN:DAYLIGHT
TZOFFSETFROM:-0800
TZOFFSETTO:-0700
TZNAME:PDT
DTSTART:20240310T100000
END:DAYLIGHT
BEGIN:STANDARD
TZOFFSETFROM:-0700
TZOFFSETTO:-0800
TZNAME:PST
DTSTART:20241103T090000
END:STANDARD
BEGIN:DAYLIGHT
TZOFFSETFROM:-0800
TZOFFSETTO:-0700
TZNAME:PDT
DTSTART:20250309T100000
END:DAYLIGHT
BEGIN:STANDARD
TZOFFSETFROM:-0700
TZOFFSETTO:-0800
TZNAME:PST
DTSTART:20251102T090000
END:STANDARD
END:VTIMEZONE
BEGIN:VEVENT
DTSTART;TZID=America/Los_Angeles:20240505T123000
DTEND;TZID=America/Los_Angeles:20240505T153000
DTSTAMP:20260423T231623
CREATED:20240420T230545Z
LAST-MODIFIED:20240420T230738Z
UID:10000528-1714912200-1714923000@yalenonprofitalliance.org
SUMMARY:Discounted Theater Tickets & Get-Together
DESCRIPTION:Discounted Theater Tickets & Get-Together\n\n\n\n\n\n\n\nMay 5 | 12:30pm PT – In-Person (Bartlett Hall) & Toni Rembe Theater \n\nBUY TICKETS (CODE “YALE”)\n\nJoin us for an afternoon of theater with fellow Yalies on Sunday\, May 5\, at ACT (the American Conservatory Theater). The matinee performance of A Strange Loop features Yale alums Montana Levi Blanco (costume design\, DGSD ‘15)\, Nailah Harper-Malveaux (Associate Director YC ’16)\, and Edmond O’Neal (production stage manager DGSD ’21). Winner of the Tony Award for Best Musical\, Michael R. Jackson’s Pulitzer Prize-winning\, the blisteringly funny work of art exposes the heart and soul of a young artist grappling with desires\, identity\, and instincts he both loves and loathes.\nJoin Sarah Williams of YANA SF/Bay Area before the performance at 12:30 PM at Bartlett Hall for snacks and drinks. The play will be followed by an audience exchange with the cast and members of the artistic team. \nTo receive the special discount price of $50 purchase tickets by April 29 here or call the box office: use code YALE.
URL:https://yalenonprofitalliance.org/event/a-strange-loop/
LOCATION:Toni Rembe Theater\, 415 Geary St\, San Francisco\, 94102\, United States
CATEGORIES:Bay Area
ATTACH;FMTTYPE=image/jpeg:https://yalenonprofitalliance.org/wp-content/uploads/2024/04/StrangeLoop.jpg
END:VEVENT
END:VCALENDAR